BEGIN:VCALENDAR
VERSION:2.0
PRODID:-//2CR2D - ECPv6.15.20//NONSGML v1.0//EN
CALSCALE:GREGORIAN
METHOD:PUBLISH
X-ORIGINAL-URL:https://www.2cr2d.ch
X-WR-CALDESC:Évènements pour 2CR2D
REFRESH-INTERVAL;VALUE=DURATION:PT1H
X-Robots-Tag:noindex
X-PUBLISHED-TTL:PT1H
BEGIN:VTIMEZONE
TZID:Europe/Zurich
BEGIN:DAYLIGHT
TZOFFSETFROM:+0100
TZOFFSETTO:+0200
TZNAME:CEST
DTSTART:20190331T010000
END:DAYLIGHT
BEGIN:STANDARD
TZOFFSETFROM:+0200
TZOFFSETTO:+0100
TZNAME:CET
DTSTART:20191027T010000
END:STANDARD
BEGIN:DAYLIGHT
TZOFFSETFROM:+0100
TZOFFSETTO:+0200
TZNAME:CEST
DTSTART:20200329T010000
END:DAYLIGHT
BEGIN:STANDARD
TZOFFSETFROM:+0200
TZOFFSETTO:+0100
TZNAME:CET
DTSTART:20201025T010000
END:STANDARD
BEGIN:DAYLIGHT
TZOFFSETFROM:+0100
TZOFFSETTO:+0200
TZNAME:CEST
DTSTART:20210328T010000
END:DAYLIGHT
BEGIN:STANDARD
TZOFFSETFROM:+0200
TZOFFSETTO:+0100
TZNAME:CET
DTSTART:20211031T010000
END:STANDARD
END:VTIMEZONE
BEGIN:VEVENT
DTSTART;TZID=Europe/Zurich:20201106T090000
DTEND;TZID=Europe/Zurich:20201107T170000
DTSTAMP:20260422T110719
CREATED:20201015T080628Z
LAST-MODIFIED:20201103T104344Z
UID:11082-1604653200-1604768400@www.2cr2d.ch
SUMMARY:6 et 7 novembre 2020: Colloque international "L'islam en classe"
DESCRIPTION:L’islam comme objet didactique constitue le champ d’investigation de cet évènement en deux parties\, co-organisé par la HEP Fribourg et l’Université de Fribourg\, au cours duquel seront examinées les interactions entres les enseignant·e·s\, les apprenant·e·s et le matériel pédagogique dans le contexte d’une société plurielle. Parmi les questions en débat: \n\nOù et comment la formation des valeurs se déroule-t-elle dans l’environnement scolaire et comment ce processus reflète-t-il la pluralisation culturelle et religieuse croissante de la société ?\nOù les convictions de foi et de conscience trouvent-elles leur écho dans l’environnement scolaire et où la liberté individuelle de foi et de conscience des élèves doit-elle être respectée ?\nQuelles offres de formation les communautés musulmanes formulent de leur côté pour les jeunes et sur quels concepts éducatifs et réflexifs théologiques se fondent-elles ?\n\n  \n Inscription table ronde (6.11) \n Inscription conférence (7.11) \nProgramme (bilingue) \n  \nNote importante: la table ronde du 6.11.20 comme la conférence du 7.11.20 peuvent être suivi soit en présentiel\, soit en ligne. Dans les deux cas\, une inscription préalable est obligatoire . \n 
URL:https://www.2cr2d.ch/event/colloque-international-lislam-en-classe/
LOCATION:UNIFR\, Avenue de l'Europe 20\, Fribourg\, 1700\, Suisse
CATEGORIES:Sciences humaines et sociales,Tous
ATTACH;FMTTYPE=image/png:https://www.2cr2d.ch/wp-content/uploads/Capture-d’écran-2020-10-15-à-09.59.10.png
END:VEVENT
END:VCALENDAR