BEGIN:VCALENDAR
VERSION:2.0
PRODID:-//2CR2D - ECPv6.15.20//NONSGML v1.0//EN
CALSCALE:GREGORIAN
METHOD:PUBLISH
X-ORIGINAL-URL:https://www.2cr2d.ch
X-WR-CALDESC:Évènements pour 2CR2D
REFRESH-INTERVAL;VALUE=DURATION:PT1H
X-Robots-Tag:noindex
X-PUBLISHED-TTL:PT1H
BEGIN:VTIMEZONE
TZID:Europe/Zurich
BEGIN:DAYLIGHT
TZOFFSETFROM:+0100
TZOFFSETTO:+0200
TZNAME:CEST
DTSTART:20190331T010000
END:DAYLIGHT
BEGIN:STANDARD
TZOFFSETFROM:+0200
TZOFFSETTO:+0100
TZNAME:CET
DTSTART:20191027T010000
END:STANDARD
BEGIN:DAYLIGHT
TZOFFSETFROM:+0100
TZOFFSETTO:+0200
TZNAME:CEST
DTSTART:20200329T010000
END:DAYLIGHT
BEGIN:STANDARD
TZOFFSETFROM:+0200
TZOFFSETTO:+0100
TZNAME:CET
DTSTART:20201025T010000
END:STANDARD
BEGIN:DAYLIGHT
TZOFFSETFROM:+0100
TZOFFSETTO:+0200
TZNAME:CEST
DTSTART:20210328T010000
END:DAYLIGHT
BEGIN:STANDARD
TZOFFSETFROM:+0200
TZOFFSETTO:+0100
TZNAME:CET
DTSTART:20211031T010000
END:STANDARD
END:VTIMEZONE
BEGIN:VEVENT
DTSTART;VALUE=DATE:20201104
DTEND;VALUE=DATE:20201105
DTSTAMP:20260422T110508
CREATED:20201016T074321Z
LAST-MODIFIED:20201103T103837Z
UID:11189-1604448000-1604534399@www.2cr2d.ch
SUMMARY:[Évènement annulé] Conférences & cas pratiques - "Encourager la collaboration entre parents et enseignant-e-s. Des objectifs communs\, des rôles différents!"
DESCRIPTION:*Cet évènement\, organisé par la HEP-BEJUNE\, est annulé en raison de la situation sanitaire. En cas d’intérêt\, merci de vous référer à l’agenda de l’institution pour davantage d’informations quant à un éventuel report de cette manifestation.* \n  \nTrois conférences et divers cas pratiques donneront un éclairage sur le partenariat parent-école et permettront de connaître les différents services de soutien. \nLa thématique sera traitée en mettant en lumière des aspects historiques\, de possibles orientations pour améliorer la collaboration entre les deux partenaires ainsi qu’une approche spécifique pour les parents issus de l’immigration. \nPublic-cible: enseignant-e-s et personnel parascolaire \nNotes importantes: \n\nCet évènement s’adresse avant tout à des enseignant-e-s et personnel du parascolaire de l’espace HEP-BEJUNE. Pour des raisons sanitaires\, les places seront limitées et ce public bénéficiera d’un accès prioritaire.\nChaque participant-e devra créer un compte auprès de la HEP-BEJUNE (si elle ou il n’en possède pas encore) afin de pouvoir finaliser son inscription.\n\nInscriptions obligatoires ici. En cas de doute\, contacter M. Blaise Humbert-Droz\, co-organisateur: Blaise.Humbert-Droz@hep-bejune.ch
URL:https://www.2cr2d.ch/event/4-novembre-conferences-encourager-la-collaboration-entre-parents-et-enseignant-e-s-des-objectifs-communs-des-roles-differents/
LOCATION:HEP Bejune\, Bienne\, Chemin de la Ciblerie 45\, Bienne\, 2503\, Switzerland
CATEGORIES:Tous
ATTACH;FMTTYPE=image/jpeg:https://www.2cr2d.ch/wp-content/uploads/pexels-andrea-piacquadio-3769995-scaled.jpg
END:VEVENT
END:VCALENDAR